BEGIN:VCALENDAR
VERSION:2.0
PRODID:-//Plaza Del Valle - ECPv6.15.20//NONSGML v1.0//EN
CALSCALE:GREGORIAN
METHOD:PUBLISH
X-ORIGINAL-URL:https://plazadelvalle.net
X-WR-CALDESC:Events for Plaza Del Valle
REFRESH-INTERVAL;VALUE=DURATION:PT1H
X-Robots-Tag:noindex
X-PUBLISHED-TTL:PT1H
BEGIN:VTIMEZONE
TZID:UTC
BEGIN:STANDARD
TZOFFSETFROM:+0000
TZOFFSETTO:+0000
TZNAME:UTC
DTSTART:20150101T000000
END:STANDARD
END:VTIMEZONE
BEGIN:VEVENT
DTSTART;TZID=UTC:20180114T120000
DTEND;TZID=UTC:20180114T170000
DTSTAMP:20260423T195230
CREATED:20180405T184723Z
LAST-MODIFIED:20180405T185834Z
UID:1449-1515931200-1515949200@plazadelvalle.net
SUMMARY:Lucha Librea Mexicana
DESCRIPTION:
URL:https://plazadelvalle.net/event/lucha-librea-mexicana/
ATTACH;FMTTYPE=image/jpeg:https://plazadelvalle.net/wp-content/uploads/2018/04/Lucha.jpg
END:VEVENT
BEGIN:VEVENT
DTSTART;TZID=UTC:20171118T120000
DTEND;TZID=UTC:20171118T200000
DTSTAMP:20260423T195230
CREATED:20161103T230411Z
LAST-MODIFIED:20161103T234807Z
UID:1420-1511006400-1511035200@plazadelvalle.net
SUMMARY:Turkey Raffle/ Christmas Tree Lighting
DESCRIPTION:
URL:https://plazadelvalle.net/event/turkey-raffle-christmas-tree-lighting/
ATTACH;FMTTYPE=image/jpeg:https://plazadelvalle.net/wp-content/uploads/2016/11/turkey-giveaway.jpg
END:VEVENT
BEGIN:VEVENT
DTSTART;TZID=UTC:20171031T120000
DTEND;TZID=UTC:20171031T210000
DTSTAMP:20260423T195230
CREATED:20161103T224917Z
LAST-MODIFIED:20161103T234851Z
UID:1418-1509451200-1509483600@plazadelvalle.net
SUMMARY:Halloween kids contest
DESCRIPTION:
URL:https://plazadelvalle.net/event/halloween-kids-contest-2/
ATTACH;FMTTYPE=image/jpeg:https://plazadelvalle.net/wp-content/uploads/2016/11/happyhalloween.jpg
END:VEVENT
BEGIN:VEVENT
DTSTART;TZID=UTC:20171029T120000
DTEND;TZID=UTC:20171029T200000
DTSTAMP:20260423T195230
CREATED:20161103T224835Z
LAST-MODIFIED:20161103T234825Z
UID:1416-1509278400-1509307200@plazadelvalle.net
SUMMARY:Dia de los Muertos
DESCRIPTION:
URL:https://plazadelvalle.net/event/dia-de-los-muertos/
ATTACH;FMTTYPE=image/jpeg:https://plazadelvalle.net/wp-content/uploads/2016/11/El-Dia-de-los-Muertos.jpg
END:VEVENT
BEGIN:VEVENT
DTSTART;TZID=UTC:20170916T120000
DTEND;TZID=UTC:20170916T190000
DTSTAMP:20260423T195230
CREATED:20161103T224758Z
LAST-MODIFIED:20161103T234838Z
UID:1414-1505563200-1505588400@plazadelvalle.net
SUMMARY:Fiestas Patrias
DESCRIPTION:
URL:https://plazadelvalle.net/event/fiestas-patrias-2/
ATTACH;FMTTYPE=image/jpeg:https://plazadelvalle.net/wp-content/uploads/2016/11/fiestaspatrias.jpg
END:VEVENT
BEGIN:VEVENT
DTSTART;TZID=UTC:20170813T120000
DTEND;TZID=UTC:20170813T190000
DTSTAMP:20260423T195230
CREATED:20161103T224720Z
LAST-MODIFIED:20161103T234903Z
UID:1412-1502625600-1502650800@plazadelvalle.net
SUMMARY:Plaza Del Valle Anniversary
DESCRIPTION:
URL:https://plazadelvalle.net/event/plaza-del-valle-anniversary/
ATTACH;FMTTYPE=image/jpeg:https://plazadelvalle.net/wp-content/uploads/2016/11/Happy-Anniversary.jpg
END:VEVENT
BEGIN:VEVENT
DTSTART;TZID=UTC:20170716T120000
DTEND;TZID=UTC:20170716T170000
DTSTAMP:20260423T195230
CREATED:20161103T224427Z
LAST-MODIFIED:20161103T234915Z
UID:1410-1500206400-1500224400@plazadelvalle.net
SUMMARY:Summer Event
DESCRIPTION:
URL:https://plazadelvalle.net/event/summer-event-4/
ATTACH;FMTTYPE=image/jpeg:https://plazadelvalle.net/wp-content/uploads/2016/11/Summer_Event.jpg
END:VEVENT
BEGIN:VEVENT
DTSTART;TZID=UTC:20170618T120000
DTEND;TZID=UTC:20170618T190000
DTSTAMP:20260423T195230
CREATED:20161103T224355Z
LAST-MODIFIED:20161103T234931Z
UID:1408-1497787200-1497812400@plazadelvalle.net
SUMMARY:Father's Day
DESCRIPTION:
URL:https://plazadelvalle.net/event/fathers-day-2/
ATTACH;FMTTYPE=image/jpeg:https://plazadelvalle.net/wp-content/uploads/2016/11/Fathers-day.jpg
END:VEVENT
BEGIN:VEVENT
DTSTART;TZID=UTC:20170528T120000
DTEND;TZID=UTC:20170528T190000
DTSTAMP:20260423T195230
CREATED:20161103T224325Z
LAST-MODIFIED:20161103T234947Z
UID:1406-1495972800-1495998000@plazadelvalle.net
SUMMARY:Summer Event
DESCRIPTION:
URL:https://plazadelvalle.net/event/summer-event-3/
ATTACH;FMTTYPE=image/jpeg:https://plazadelvalle.net/wp-content/uploads/2016/11/Summer_Event.jpg
END:VEVENT
BEGIN:VEVENT
DTSTART;TZID=UTC:20170514T000000
DTEND;TZID=UTC:20170514T190000
DTSTAMP:20260423T195230
CREATED:20161103T224248Z
LAST-MODIFIED:20161103T224253Z
UID:1404-1494720000-1494788400@plazadelvalle.net
SUMMARY:Mother's Day
DESCRIPTION:
URL:https://plazadelvalle.net/event/mothers-day-2/
ATTACH;FMTTYPE=image/jpeg:https://plazadelvalle.net/wp-content/uploads/2016/11/mothers-day.jpg
END:VEVENT
BEGIN:VEVENT
DTSTART;TZID=UTC:20170505T120000
DTEND;TZID=UTC:20170505T190000
DTSTAMP:20260423T195230
CREATED:20161103T224115Z
LAST-MODIFIED:20161103T235011Z
UID:1402-1493985600-1494010800@plazadelvalle.net
SUMMARY:Cinco De Mayo
DESCRIPTION:
URL:https://plazadelvalle.net/event/cinco-de-mayo/
ATTACH;FMTTYPE=image/jpeg:https://plazadelvalle.net/wp-content/uploads/2016/11/CINCO_DE_MAYO.jpg
END:VEVENT
BEGIN:VEVENT
DTSTART;TZID=UTC:20170430T120000
DTEND;TZID=UTC:20170430T190000
DTSTAMP:20260423T195230
CREATED:20161103T223920Z
LAST-MODIFIED:20161103T235026Z
UID:1397-1493553600-1493578800@plazadelvalle.net
SUMMARY:Dia de los Ninos/ Day of the Children
DESCRIPTION:
URL:https://plazadelvalle.net/event/dia-de-los-ninos-day-of-the-children-2/
ATTACH;FMTTYPE=image/jpeg:https://plazadelvalle.net/wp-content/uploads/2016/11/diadelniño.jpg
END:VEVENT
BEGIN:VEVENT
DTSTART;TZID=UTC:20170319T120000
DTEND;TZID=UTC:20170319T190000
DTSTAMP:20260423T195230
CREATED:20161103T224027Z
LAST-MODIFIED:20161103T235040Z
UID:1400-1489924800-1489950000@plazadelvalle.net
SUMMARY:Fashion Show Event 2017
DESCRIPTION:
URL:https://plazadelvalle.net/event/fashion-show-event-2017/
ATTACH;FMTTYPE=image/jpeg:https://plazadelvalle.net/wp-content/uploads/2016/11/Fashion-Show.jpg
END:VEVENT
BEGIN:VEVENT
DTSTART;TZID=UTC:20170212T080000
DTEND;TZID=UTC:20170212T170000
DTSTAMP:20260423T195230
CREATED:20161103T223828Z
LAST-MODIFIED:20161103T223831Z
UID:1382-1486886400-1486918800@plazadelvalle.net
SUMMARY:Valentine's Day
DESCRIPTION:
URL:https://plazadelvalle.net/event/valentines-day-2/
ATTACH;FMTTYPE=image/jpeg:https://plazadelvalle.net/wp-content/uploads/2016/11/Valentines-Day.jpg
END:VEVENT
BEGIN:VEVENT
DTSTART;TZID=UTC:20161215T080000
DTEND;TZID=UTC:20161223T170000
DTSTAMP:20260423T195230
CREATED:20160322T075023Z
LAST-MODIFIED:20160322T075023Z
UID:790-1481788800-1482512400@plazadelvalle.net
SUMMARY:Posadas Navidenas 9 nights
DESCRIPTION:
URL:https://plazadelvalle.net/event/posadas-navidenas-9-nights/
ATTACH;FMTTYPE=image/jpeg:https://plazadelvalle.net/wp-content/uploads/2016/03/03_tradiciones_mexicanas2-958x678.jpg
END:VEVENT
BEGIN:VEVENT
DTSTART;TZID=UTC:20161119T130000
DTEND;TZID=UTC:20161119T190000
DTSTAMP:20260423T195230
CREATED:20160322T074919Z
LAST-MODIFIED:20161103T230742Z
UID:788-1479560400-1479582000@plazadelvalle.net
SUMMARY:Turkey raffles event
DESCRIPTION:
URL:https://plazadelvalle.net/event/turkey-raffles-event/
ATTACH;FMTTYPE=image/jpeg:https://plazadelvalle.net/wp-content/uploads/2016/03/turkey-raffle-psa.jpg
END:VEVENT
BEGIN:VEVENT
DTSTART;TZID=UTC:20161030T080000
DTEND;TZID=UTC:20161030T170000
DTSTAMP:20260423T195230
CREATED:20160322T074833Z
LAST-MODIFIED:20160322T074833Z
UID:786-1477814400-1477846800@plazadelvalle.net
SUMMARY:Halloween kids contest
DESCRIPTION:
URL:https://plazadelvalle.net/event/halloween-kids-contest/
ATTACH;FMTTYPE=image/gif:https://plazadelvalle.net/wp-content/uploads/2016/03/Happy-Halloween-29.gif
END:VEVENT
BEGIN:VEVENT
DTSTART;TZID=UTC:20160911T080000
DTEND;TZID=UTC:20160911T170000
DTSTAMP:20260423T195230
CREATED:20160322T074801Z
LAST-MODIFIED:20160322T074801Z
UID:784-1473580800-1473613200@plazadelvalle.net
SUMMARY:Fiestas Patrias
DESCRIPTION:
URL:https://plazadelvalle.net/event/fiestas-patrias/
ATTACH;FMTTYPE=image/jpeg:https://plazadelvalle.net/wp-content/uploads/2016/03/fiestas-patrias.jpg
END:VEVENT
BEGIN:VEVENT
DTSTART;TZID=UTC:20160814T080000
DTEND;TZID=UTC:20160814T170000
DTSTAMP:20260423T195230
CREATED:20160322T074721Z
LAST-MODIFIED:20160322T074721Z
UID:782-1471161600-1471194000@plazadelvalle.net
SUMMARY:PDF Anniversary
DESCRIPTION:
URL:https://plazadelvalle.net/event/pdf-anniversary/
ATTACH;FMTTYPE=image/jpeg:https://plazadelvalle.net/wp-content/uploads/2016/03/anniversary.jpg
END:VEVENT
BEGIN:VEVENT
DTSTART;TZID=UTC:20160710T080000
DTEND;TZID=UTC:20160710T170000
DTSTAMP:20260423T195230
CREATED:20160322T074647Z
LAST-MODIFIED:20160322T074647Z
UID:780-1468137600-1468170000@plazadelvalle.net
SUMMARY:Summer event
DESCRIPTION:
URL:https://plazadelvalle.net/event/summer-event-2/
ATTACH;FMTTYPE=image/jpeg:https://plazadelvalle.net/wp-content/uploads/2016/03/Bism-water-summer-event-banner-1.jpg
END:VEVENT
BEGIN:VEVENT
DTSTART;TZID=UTC:20160619T080000
DTEND;TZID=UTC:20160619T170000
DTSTAMP:20260423T195230
CREATED:20160322T074618Z
LAST-MODIFIED:20160322T074618Z
UID:778-1466323200-1466355600@plazadelvalle.net
SUMMARY:Father's Day
DESCRIPTION:
URL:https://plazadelvalle.net/event/fathers-day/
ATTACH;FMTTYPE=image/jpeg:https://plazadelvalle.net/wp-content/uploads/2016/03/fathers-day-2011.jpg
END:VEVENT
BEGIN:VEVENT
DTSTART;TZID=UTC:20160529T080000
DTEND;TZID=UTC:20160529T170000
DTSTAMP:20260423T195230
CREATED:20160322T074533Z
LAST-MODIFIED:20160322T074533Z
UID:776-1464508800-1464541200@plazadelvalle.net
SUMMARY:Summer event
DESCRIPTION:
URL:https://plazadelvalle.net/event/summer-event/
ATTACH;FMTTYPE=image/jpeg:https://plazadelvalle.net/wp-content/uploads/2016/03/Bism-water-summer-event-banner.jpg
END:VEVENT
BEGIN:VEVENT
DTSTART;TZID=UTC:20160508T080000
DTEND;TZID=UTC:20160508T170000
DTSTAMP:20260423T195230
CREATED:20160322T074442Z
LAST-MODIFIED:20160322T074442Z
UID:774-1462694400-1462726800@plazadelvalle.net
SUMMARY:Mother’s Day
DESCRIPTION:
URL:https://plazadelvalle.net/event/mothers-day/
ATTACH;FMTTYPE=image/jpeg:https://plazadelvalle.net/wp-content/uploads/2016/03/2016-Mothers-day-photos.jpg
END:VEVENT
BEGIN:VEVENT
DTSTART;TZID=UTC:20160501T080000
DTEND;TZID=UTC:20160501T170000
DTSTAMP:20260423T195230
CREATED:20160322T074416Z
LAST-MODIFIED:20160322T074416Z
UID:773-1462089600-1462122000@plazadelvalle.net
SUMMARY:5 de Mayo
DESCRIPTION:
URL:https://plazadelvalle.net/event/5-de-mayo/
END:VEVENT
BEGIN:VEVENT
DTSTART;TZID=UTC:20160430T080000
DTEND;TZID=UTC:20160430T170000
DTSTAMP:20260423T195230
CREATED:20160322T074330Z
LAST-MODIFIED:20160322T074330Z
UID:771-1462003200-1462035600@plazadelvalle.net
SUMMARY:Dia de los Ninos / Day of the Children
DESCRIPTION:
URL:https://plazadelvalle.net/event/dia-de-los-ninos-day-of-the-children/
ATTACH;FMTTYPE=image/jpeg:https://plazadelvalle.net/wp-content/uploads/2016/03/dia-de-los-ninos.jpg
END:VEVENT
BEGIN:VEVENT
DTSTART;TZID=UTC:20160416T080000
DTEND;TZID=UTC:20160416T170000
DTSTAMP:20260423T195230
CREATED:20160322T074255Z
LAST-MODIFIED:20160322T074255Z
UID:769-1460793600-1460826000@plazadelvalle.net
SUMMARY:Beauty Pageant
DESCRIPTION:
URL:https://plazadelvalle.net/event/beauty-pageant/
ATTACH;FMTTYPE=image/jpeg:https://plazadelvalle.net/wp-content/uploads/2016/03/beauty-pageant.jpg
END:VEVENT
BEGIN:VEVENT
DTSTART;TZID=UTC:20160409T110000
DTEND;TZID=UTC:20160409T180000
DTSTAMP:20260423T195230
CREATED:20160405T230708Z
LAST-MODIFIED:20160405T230712Z
UID:1369-1460199600-1460224800@plazadelvalle.net
SUMMARY:Rock Da Valle
DESCRIPTION:Seven Live bands coming this Saturday! In our April Rock Da Valle Concert.
URL:https://plazadelvalle.net/event/rock-da-valle/
ATTACH;FMTTYPE=image/jpeg:https://plazadelvalle.net/wp-content/uploads/2016/04/IMG_6376.jpg
END:VEVENT
BEGIN:VEVENT
DTSTART;TZID=UTC:20160313T080000
DTEND;TZID=UTC:20160313T170000
DTSTAMP:20260423T195230
CREATED:20160322T074226Z
LAST-MODIFIED:20160323T151711Z
UID:767-1457856000-1457888400@plazadelvalle.net
SUMMARY:Spring event 2016
DESCRIPTION:
URL:https://plazadelvalle.net/event/spring-event-2016/
ATTACH;FMTTYPE=image/jpeg:https://plazadelvalle.net/wp-content/uploads/2016/03/spring-letters_23-2147502948.jpg
END:VEVENT
BEGIN:VEVENT
DTSTART;TZID=UTC:20160214T080000
DTEND;TZID=UTC:20160214T170000
DTSTAMP:20260423T195230
CREATED:20160322T074142Z
LAST-MODIFIED:20160322T074142Z
UID:764-1455436800-1455469200@plazadelvalle.net
SUMMARY:Valentine's day
DESCRIPTION:
URL:https://plazadelvalle.net/event/valentines-day/
ATTACH;FMTTYPE=image/gif:https://plazadelvalle.net/wp-content/uploads/2016/03/valentine-day.gif
END:VEVENT
END:VCALENDAR